
BEGIN:VCALENDAR
VERSION:2.0
PRODID:-//Silverball Retro Arcade - Delray Beach - ECPv6.15.20//NONSGML v1.0//EN
CALSCALE:GREGORIAN
METHOD:PUBLISH
X-ORIGINAL-URL:https://silverballmuseum.com/delray-beach
X-WR-CALDESC:Events for Silverball Retro Arcade - Delray Beach
REFRESH-INTERVAL;VALUE=DURATION:PT1H
X-Robots-Tag:noindex
X-PUBLISHED-TTL:PT1H
BEGIN:VTIMEZONE
TZID:America/New_York
BEGIN:DAYLIGHT
TZOFFSETFROM:-0500
TZOFFSETTO:-0400
TZNAME:EDT
DTSTART:20220313T070000
END:DAYLIGHT
BEGIN:STANDARD
TZOFFSETFROM:-0400
TZOFFSETTO:-0500
TZNAME:EST
DTSTART:20221106T060000
END:STANDARD
BEGIN:DAYLIGHT
TZOFFSETFROM:-0500
TZOFFSETTO:-0400
TZNAME:EDT
DTSTART:20230312T070000
END:DAYLIGHT
BEGIN:STANDARD
TZOFFSETFROM:-0400
TZOFFSETTO:-0500
TZNAME:EST
DTSTART:20231105T060000
END:STANDARD
BEGIN:DAYLIGHT
TZOFFSETFROM:-0500
TZOFFSETTO:-0400
TZNAME:EDT
DTSTART:20240310T070000
END:DAYLIGHT
BEGIN:STANDARD
TZOFFSETFROM:-0400
TZOFFSETTO:-0500
TZNAME:EST
DTSTART:20241103T060000
END:STANDARD
END:VTIMEZONE
BEGIN:VEVENT
DTSTART;TZID=America/New_York:20230517T183000
DTEND;TZID=America/New_York:20230517T213000
DTSTAMP:20260419T144902
CREATED:20230515T170512Z
LAST-MODIFIED:20230515T171153Z
UID:18008-1684348200-1684359000@silverballmuseum.com
SUMMARY:The Top Floor is CLOSED for a Private Event
DESCRIPTION:The top floor will be closed on May 17th from 6:30-9:30 PM. The arcade will be open to the public during the event.
URL:https://silverballmuseum.com/delray-beach/event/top-floor-private-party-event-closure-may-17/
LOCATION:Delray Beach\, 19 NE 3rd Ave.\, Delray Beach\, FL\, 33483\, United States
CATEGORIES:Parties / Events,Private
END:VEVENT
BEGIN:VEVENT
DTSTART;TZID=America/New_York:20230528T150000
DTEND;TZID=America/New_York:20230528T180000
DTSTAMP:20260419T144902
CREATED:20230222T181459Z
LAST-MODIFIED:20230222T181613Z
UID:17701-1685286000-1685296800@silverballmuseum.com
SUMMARY:The Top Floor is CLOSED for a Private Event
DESCRIPTION:The top floor will be closed on May 28th from 3 PM-6 PM. The arcade will be open to the public during the event.
URL:https://silverballmuseum.com/delray-beach/event/top-floor-private-party-event-closure-may-28-2023/
LOCATION:Delray Beach\, 19 NE 3rd Ave.\, Delray Beach\, FL\, 33483\, United States
CATEGORIES:Parties / Events,Private
END:VEVENT
BEGIN:VEVENT
DTSTART;TZID=America/New_York:20230601T123000
DTEND;TZID=America/New_York:20230601T163000
DTSTAMP:20260419T144902
CREATED:20230531T172053Z
LAST-MODIFIED:20230531T172223Z
UID:18247-1685622600-1685637000@silverballmuseum.com
SUMMARY:The Top Floor is CLOSED for a Private Event
DESCRIPTION:The top floor will be closed on June 1st from 12:30-4:30 PM. The arcade will be open to the public during the event.
URL:https://silverballmuseum.com/delray-beach/event/top-floor-private-party-event-closure-june-1-2023/
LOCATION:Delray Beach\, 19 NE 3rd Ave.\, Delray Beach\, FL\, 33483\, United States
CATEGORIES:Parties / Events,Private
END:VEVENT
BEGIN:VEVENT
DTSTART;TZID=America/New_York:20230602T190000
DTEND;TZID=America/New_York:20230602T220000
DTSTAMP:20260419T144902
CREATED:20230522T204943Z
LAST-MODIFIED:20230522T204943Z
UID:18242-1685732400-1685743200@silverballmuseum.com
SUMMARY:The For Paul Foundation - Skee Ball Tournament
DESCRIPTION:Kick Off Party & Skee Ball Tournament benefiting The For Paul Foundation \nThe For Paul Foundation helps to raise funds to support\, honor\, and help educate first responders\, their families\, and families that have lost a loved one in the line of duty. \n  \n50% of our door fee profits from 7pm-10pm will be donated to the For Paul Foundation. Featuring: Raffle and Silent Auction giveaways\, and The For Paul Foundation Bag Pipers Performance! \n$100 entry fee to participate in the Skee Ball Tournament. All tournament profits will go towards For Paul Foundation.
URL:https://silverballmuseum.com/delray-beach/event/the-for-paul-foundation-skee-ball-tournament/
LOCATION:Delray Beach\, 19 NE 3rd Ave.\, Delray Beach\, FL\, 33483\, United States
CATEGORIES:Public
END:VEVENT
BEGIN:VEVENT
DTSTART;TZID=America/New_York:20230603T193000
DTEND;TZID=America/New_York:20230603T223000
DTSTAMP:20260419T144902
CREATED:20230412T164451Z
LAST-MODIFIED:20230412T164618Z
UID:17969-1685820600-1685831400@silverballmuseum.com
SUMMARY:Venue CLOSED for a Private Event
DESCRIPTION:The building will be closed on June 3rd from 7:30-10:30 PM for a private event. The arcade will be open to the public before and after the event.
URL:https://silverballmuseum.com/delray-beach/event/venue-private-party-event-closure-06032023/
LOCATION:Delray Beach\, 19 NE 3rd Ave.\, Delray Beach\, FL\, 33483\, United States
CATEGORIES:Parties / Events,Private
END:VEVENT
BEGIN:VEVENT
DTSTART;TZID=America/New_York:20230610T174500
DTEND;TZID=America/New_York:20230610T220000
DTSTAMP:20260419T144902
CREATED:20230105T195021Z
LAST-MODIFIED:20230605T191302Z
UID:17673-1686419100-1686434400@silverballmuseum.com
SUMMARY:Venue CLOSED for a Private Event
DESCRIPTION:The building will be closed on June 10th from 5:45-10 PM for a private event. The arcade will be open to the public before and after the event.
URL:https://silverballmuseum.com/delray-beach/event/venue-private-party-event-closure-06102023/
LOCATION:Delray Beach\, 19 NE 3rd Ave.\, Delray Beach\, FL\, 33483\, United States
CATEGORIES:Parties / Events,Private
END:VEVENT
BEGIN:VEVENT
DTSTART;TZID=America/New_York:20230614T180000
DTEND;TZID=America/New_York:20230614T200000
DTSTAMP:20260419T144902
CREATED:20230515T170150Z
LAST-MODIFIED:20230515T171430Z
UID:18005-1686765600-1686772800@silverballmuseum.com
SUMMARY:The Top Floor is CLOSED for a Private Event
DESCRIPTION:The top floor will be closed on June 14th from 6 PM-8 PM. The arcade will be open to the public during the event.
URL:https://silverballmuseum.com/delray-beach/event/top-floor-private-party-event-closure-june-14-copy/
LOCATION:Delray Beach\, 19 NE 3rd Ave.\, Delray Beach\, FL\, 33483\, United States
CATEGORIES:Parties / Events,Private
END:VEVENT
BEGIN:VEVENT
DTSTART;TZID=America/New_York:20230621T180000
DTEND;TZID=America/New_York:20230621T230000
DTSTAMP:20260419T144902
CREATED:20230608T183458Z
LAST-MODIFIED:20230608T184630Z
UID:18257-1687370400-1687388400@silverballmuseum.com
SUMMARY:Ladies Pinball Tournament
DESCRIPTION:Ladies Night on June 21st just got better! Ladies of all ages and skill level are encouraged to sign up today for our first female Pinball Tournament. 🏆\nJune 21 – Registration/Practice 6-6:45 pm | Tournament 7-10 pm\nEntry fee: $10\nTournament fee: $5\nRSVP to patricia@silverballmusum.com \nEvery Wednesday is Ladies Night at Silverball Retro Arcade – Delray Beach! Enjoy 50% off alcoholic beverages from 8-11pm! 🍻
URL:https://silverballmuseum.com/delray-beach/event/ladies-pinball-tournament/
LOCATION:Delray Beach\, 19 NE 3rd Ave.\, Delray Beach\, FL\, 33483\, United States
CATEGORIES:Public
END:VEVENT
BEGIN:VEVENT
DTSTART;TZID=America/New_York:20230708T160000
DTEND;TZID=America/New_York:20230708T190000
DTSTAMP:20260419T144902
CREATED:20230629T184512Z
LAST-MODIFIED:20230629T184947Z
UID:18276-1688832000-1688842800@silverballmuseum.com
SUMMARY:The Top Floor is CLOSED for a Private Event
DESCRIPTION:The top floor will be closed on July 8th from 4 PM-7 PM. The arcade will be open to the public during the event.
URL:https://silverballmuseum.com/delray-beach/event/top-floor-private-party-event-closure-july-8-2023/
LOCATION:Delray Beach\, 19 NE 3rd Ave.\, Delray Beach\, FL\, 33483\, United States
CATEGORIES:Parties / Events,Private
END:VEVENT
BEGIN:VEVENT
DTSTART;TZID=America/New_York:20230719T110000
DTEND;TZID=America/New_York:20230719T140000
DTSTAMP:20260419T144902
CREATED:20230427T141213Z
LAST-MODIFIED:20230515T170327Z
UID:17992-1689764400-1689775200@silverballmuseum.com
SUMMARY:The Top Floor is CLOSED for a Private Event
DESCRIPTION:The top floor will be closed on July 19th from 11 AM-2 PM. The arcade will be open to the public during the event.
URL:https://silverballmuseum.com/delray-beach/event/top-floor-private-party-event-closure-july-19/
LOCATION:Delray Beach\, 19 NE 3rd Ave.\, Delray Beach\, FL\, 33483\, United States
CATEGORIES:Parties / Events,Private
END:VEVENT
BEGIN:VEVENT
DTSTART;TZID=America/New_York:20230722T110000
DTEND;TZID=America/New_York:20230722T140000
DTSTAMP:20260419T144902
CREATED:20230222T181153Z
LAST-MODIFIED:20230222T181335Z
UID:17698-1690023600-1690034400@silverballmuseum.com
SUMMARY:The Top Floor is CLOSED for a Private Event
DESCRIPTION:The top floor will be closed on July 22nd from 11 AM-2 PM. The arcade will be open to the public during the event.
URL:https://silverballmuseum.com/delray-beach/event/top-floor-private-party-event-closure-july-22-2023/
LOCATION:Delray Beach\, 19 NE 3rd Ave.\, Delray Beach\, FL\, 33483\, United States
CATEGORIES:Parties / Events,Private
END:VEVENT
BEGIN:VEVENT
DTSTART;TZID=America/New_York:20230808T150000
DTEND;TZID=America/New_York:20230808T180000
DTSTAMP:20260419T144902
CREATED:20230629T185322Z
LAST-MODIFIED:20230629T185434Z
UID:18282-1691506800-1691517600@silverballmuseum.com
SUMMARY:The Top Floor is CLOSED for a Private Event
DESCRIPTION:The top floor will be closed on August 8th from 3:00 PM-6:00 PM. The arcade will be open to the public during the event.
URL:https://silverballmuseum.com/delray-beach/event/top-floor-private-party-event-closure-august-8-2023/
LOCATION:Delray Beach\, 19 NE 3rd Ave.\, Delray Beach\, FL\, 33483\, United States
CATEGORIES:Parties / Events,Private
END:VEVENT
BEGIN:VEVENT
DTSTART;TZID=America/New_York:20230819T183000
DTEND;TZID=America/New_York:20230819T213000
DTSTAMP:20260419T144902
CREATED:20230727T180617Z
LAST-MODIFIED:20230817T191643Z
UID:18314-1692469800-1692480600@silverballmuseum.com
SUMMARY:The Top Floor is CLOSED for a Private Event
DESCRIPTION:The top floor will be closed on August 19th from 6:30 PM-9:30 PM. The arcade will be open to the public during the event.
URL:https://silverballmuseum.com/delray-beach/event/top-floor-private-party-event-closure-august-19-2023/
LOCATION:Delray Beach\, 19 NE 3rd Ave.\, Delray Beach\, FL\, 33483\, United States
CATEGORIES:Parties / Events,Private
END:VEVENT
BEGIN:VEVENT
DTSTART;TZID=America/New_York:20230907T180000
DTEND;TZID=America/New_York:20230907T210000
DTSTAMP:20260419T144902
CREATED:20230724T193746Z
LAST-MODIFIED:20230724T193912Z
UID:18308-1694109600-1694120400@silverballmuseum.com
SUMMARY:The Top Floor is CLOSED for a Private Event
DESCRIPTION:The top floor will be closed on September 7th from 6 PM-9 PM. The arcade will be open to the public during the event.
URL:https://silverballmuseum.com/delray-beach/event/top-floor-private-party-event-closure-september-7-2023/
LOCATION:Delray Beach\, 19 NE 3rd Ave.\, Delray Beach\, FL\, 33483\, United States
CATEGORIES:Parties / Events,Private
END:VEVENT
BEGIN:VEVENT
DTSTART;TZID=America/New_York:20230917T110000
DTEND;TZID=America/New_York:20230917T200000
DTSTAMP:20260419T144902
CREATED:20230824T202404Z
LAST-MODIFIED:20230831T134505Z
UID:18337-1694948400-1694980800@silverballmuseum.com
SUMMARY:Open Pinball Tournament
DESCRIPTION:Registration & practice: 11:00 AM-12:00 PM \nTournament: 12:00 PM \nEntry fee (All Day Pass): $15 \nTournament fee: $5 \nAll ages and skill levels \n10-13 rounds + finals \n5-6 hours of play \nLate additions receive last place for every missed round \nNo new entries after the start of the third round \n 
URL:https://silverballmuseum.com/delray-beach/event/open-tournament-09172023/
LOCATION:Delray Beach\, 19 NE 3rd Ave.\, Delray Beach\, FL\, 33483\, United States
CATEGORIES:Parties / Events,Public
ATTACH;FMTTYPE=image/png:https://silverballmuseum.com/delray-beach/wp-content/uploads/sites/5/2023/08/SB-DB-Pinball-Tournament-1-1.png
END:VEVENT
BEGIN:VEVENT
DTSTART;TZID=America/New_York:20230917T160000
DTEND;TZID=America/New_York:20230917T190000
DTSTAMP:20260419T144902
CREATED:20230906T201238Z
LAST-MODIFIED:20230906T201414Z
UID:18383-1694966400-1694977200@silverballmuseum.com
SUMMARY:The Top Floor is CLOSED for a Private Event
DESCRIPTION:The top floor will be closed on September 17th from 4 PM-7 PM. The arcade will be open to the public during the event.
URL:https://silverballmuseum.com/delray-beach/event/top-floor-private-party-event-closure-september-17-2023/
LOCATION:Delray Beach\, 19 NE 3rd Ave.\, Delray Beach\, FL\, 33483\, United States
CATEGORIES:Parties / Events,Private
END:VEVENT
BEGIN:VEVENT
DTSTART;TZID=America/New_York:20230918T170000
DTEND;TZID=America/New_York:20230918T200000
DTSTAMP:20260419T144902
CREATED:20230629T185522Z
LAST-MODIFIED:20230629T185625Z
UID:18284-1695056400-1695067200@silverballmuseum.com
SUMMARY:The Top Floor is CLOSED for a Private Event
DESCRIPTION:The top floor will be closed on September 18th from 5:00 PM-8:00 PM. The arcade will be open to the public during the event.
URL:https://silverballmuseum.com/delray-beach/event/top-floor-private-party-event-closure-september-18-2023/
LOCATION:Delray Beach\, 19 NE 3rd Ave.\, Delray Beach\, FL\, 33483\, United States
CATEGORIES:Parties / Events,Private
END:VEVENT
BEGIN:VEVENT
DTSTART;TZID=America/New_York:20230920T180000
DTEND;TZID=America/New_York:20230920T220000
DTSTAMP:20260419T144902
CREATED:20230824T201405Z
LAST-MODIFIED:20230906T200535Z
UID:18330-1695232800-1695247200@silverballmuseum.com
SUMMARY:Ladies Tournament
DESCRIPTION:Every 3rd Wednesday of the month join us for our Ladies Pinball Tournament \nRegistration & practice: 6:00-6:45 PM\nTournament: 7:00 PM \n\nEntry fee: $10\nTournament fee: $5\nAll ages and skill levels\n3 hours of play\n50% off drinks from 8-11 PM for all Ladies on Wednesday nights
URL:https://silverballmuseum.com/delray-beach/event/ladies-tournament-09202023/
LOCATION:Delray Beach\, 19 NE 3rd Ave.\, Delray Beach\, FL\, 33483\, United States
CATEGORIES:Parties / Events,Public
END:VEVENT
BEGIN:VEVENT
DTSTART;TZID=America/New_York:20231001T130000
DTEND;TZID=America/New_York:20231001T160000
DTSTAMP:20260419T144902
CREATED:20230906T194930Z
LAST-MODIFIED:20230906T194930Z
UID:18373-1696165200-1696176000@silverballmuseum.com
SUMMARY:"Pinball for Promise" | DO GOOD DELRAY Event
DESCRIPTION:We are kicking off DO GOOD DELRAY on October 1st by partnering with Family Promises of South Palm Beach County! \nCome play it forward for homeless families and experience classic pinball\, arcades games\, Skee Ball & more. We will have amazing raffle items too. Help us FUN-raise! \nFrom 1 PM – 4 PM only\, Silverball Retro Arcade is donating 50% of ticket sales to Family Promise. Pre-purchase your tickets\, or buy them at the door. $45 for up to 4 people. \nGaming Tees and Character Costumes welcomed. FREE raffle opportunity for kids in costumes. \nDo Good Delray (Partner with Purpose) is the Delray Beach Chamber of Commerce’s 3rd annual partnership initiative! With a desire to see increased collaboration between our profit and nonprofit members\, we have created a month of opportunities aimed at growing both friends & funds in a fun\, creative way.
URL:https://silverballmuseum.com/delray-beach/event/pinball-for-promise-do-good-delray-event/
LOCATION:Delray Beach\, 19 NE 3rd Ave.\, Delray Beach\, FL\, 33483\, United States
CATEGORIES:Public
ATTACH;FMTTYPE=image/jpeg:https://silverballmuseum.com/delray-beach/wp-content/uploads/sites/5/2023/09/Pinball-for-Promise-DGD.jpg
END:VEVENT
BEGIN:VEVENT
DTSTART;TZID=America/New_York:20231005T173000
DTEND;TZID=America/New_York:20231005T203000
DTSTAMP:20260419T144902
CREATED:20230817T190919Z
LAST-MODIFIED:20230817T191122Z
UID:18320-1696527000-1696537800@silverballmuseum.com
SUMMARY:The Top Floor is CLOSED for a Private Event
DESCRIPTION:The top floor will be closed on October 5th from 5:30 PM-8:30 PM. The arcade will be open to the public during the event.
URL:https://silverballmuseum.com/delray-beach/event/top-floor-private-party-event-closure-october-5-2023/
LOCATION:Delray Beach\, 19 NE 3rd Ave.\, Delray Beach\, FL\, 33483\, United States
CATEGORIES:Parties / Events,Private
END:VEVENT
BEGIN:VEVENT
DTSTART;TZID=America/New_York:20231015T153000
DTEND;TZID=America/New_York:20231015T183000
DTSTAMP:20260419T144902
CREATED:20230920T191550Z
LAST-MODIFIED:20231122T165013Z
UID:18394-1697383800-1697394600@silverballmuseum.com
SUMMARY:The Top Floor is CLOSED for a Private Event
DESCRIPTION:The top floor will be closed on October 15th from 3:30-6:30 PM for a private event. The arcade and first floor bar will be open to the public during the event.
URL:https://silverballmuseum.com/delray-beach/event/top-floor-private-party-event-closure-october-15-2023/
LOCATION:Delray Beach\, 19 NE 3rd Ave.\, Delray Beach\, FL\, 33483\, United States
CATEGORIES:Parties / Events,Private
END:VEVENT
BEGIN:VEVENT
DTSTART;TZID=America/New_York:20231018T180000
DTEND;TZID=America/New_York:20231018T220000
DTSTAMP:20260419T144902
CREATED:20231220T192305Z
LAST-MODIFIED:20231220T192305Z
UID:19365-1697652000-1697666400@silverballmuseum.com
SUMMARY:Ladies Pinball Tournament  Copy
DESCRIPTION:Every 3rd Wednesday of the month join us for our Ladies Pinball Tournament \nRegistration & practice: 6:00-6:45 PM\nTournament: 7:00 PM \n\nEntry fee: $10\nTournament fee: $5\nAll ages and skill levels\n3 hours of play\n50% off drinks from 8-11 PM for all Ladies on Wednesday nights
URL:https://silverballmuseum.com/delray-beach/event/ladies-tournament-10182023-copy/
LOCATION:Delray Beach\, 19 NE 3rd Ave.\, Delray Beach\, FL\, 33483\, United States
CATEGORIES:Parties / Events,Public
END:VEVENT
BEGIN:VEVENT
DTSTART;TZID=America/New_York:20231022T110000
DTEND;TZID=America/New_York:20231022T200000
DTSTAMP:20260419T144902
CREATED:20230824T203221Z
LAST-MODIFIED:20230920T200342Z
UID:18340-1697972400-1698004800@silverballmuseum.com
SUMMARY:Open Pinball Tournament
DESCRIPTION:Registration & practice: 11:00 AM-12:00 PM \nTournament: 12:00 PM
URL:https://silverballmuseum.com/delray-beach/event/open-tournament-10222023/
LOCATION:Delray Beach\, 19 NE 3rd Ave.\, Delray Beach\, FL\, 33483\, United States
CATEGORIES:Parties / Events,Public
END:VEVENT
BEGIN:VEVENT
DTSTART;TZID=America/New_York:20231027T200000
DTEND;TZID=America/New_York:20231028T020000
DTSTAMP:20260419T144902
CREATED:20230629T183825Z
LAST-MODIFIED:20230928T205158Z
UID:18273-1698436800-1698458400@silverballmuseum.com
SUMMARY:Adult Halloween Event
DESCRIPTION:Join us for a spooktacular good time on October 27th! Arrive in costume and receive a discounted $10 entry from 8PM-2AM. \n\nUnlimited game play (no coins needed)\nLive DJ\n3 full bars\nRestaurant\nPrize giveaway for scariest or most original costumes\n\n 
URL:https://silverballmuseum.com/delray-beach/event/adult-halloween-10272023/
LOCATION:Delray Beach\, 19 NE 3rd Ave.\, Delray Beach\, FL\, 33483\, United States
CATEGORIES:Parties / Events,Private
ATTACH;FMTTYPE=image/jpeg:https://silverballmuseum.com/delray-beach/wp-content/uploads/sites/5/2023/06/Adult-event_Halloween_social-1.jpg
END:VEVENT
BEGIN:VEVENT
DTSTART;TZID=America/New_York:20231029T120000
DTEND;TZID=America/New_York:20231030T000000
DTSTAMP:20260419T144902
CREATED:20230928T205331Z
LAST-MODIFIED:20230928T210506Z
UID:18406-1698580800-1698624000@silverballmuseum.com
SUMMARY:Family Halloween Event
DESCRIPTION:Join us for a family-friendly spooky good time on October 29th! Receive unlimited game play for up to 4 people for $45. Each additional person is $10 (up to 8 per group).
URL:https://silverballmuseum.com/delray-beach/event/family-halloween-10292023/
LOCATION:Delray Beach\, 19 NE 3rd Ave.\, Delray Beach\, FL\, 33483\, United States
CATEGORIES:Parties / Events,Private
ATTACH;FMTTYPE=image/jpeg:https://silverballmuseum.com/delray-beach/wp-content/uploads/sites/5/2023/09/Kids_Halloween_social-1.jpg
END:VEVENT
BEGIN:VEVENT
DTSTART;VALUE=DATE:20231030
DTEND;VALUE=DATE:20231101
DTSTAMP:20260419T144902
CREATED:20231102T141544Z
LAST-MODIFIED:20250116T191734Z
UID:18630-1698634800-1698721199@silverballmuseum.com
SUMMARY:Happy Hour
DESCRIPTION:Monday through Friday 4 pm-7 pm come join us for happy hour at our retro arcade! Our classic pinball machines will take you back in time as you sip on your 50% off drinks and munch on our $7 menu. Whether you’re looking for a relaxing evening or an exciting adventure\, our happy hour is here to make it happen. So don’t wait – come on over and let the fun begin!
URL:https://silverballmuseum.com/delray-beach/event/happy-hour/
LOCATION:Delray Beach\, 19 NE 3rd Ave.\, Delray Beach\, FL\, 33483\, United States
CATEGORIES:Weekly Specials
ATTACH;FMTTYPE=image/png:https://silverballmuseum.com/delray-beach/wp-content/uploads/sites/5/2023/11/SilverballDB_HappyHour_Graphic02-1080-1.png
END:VEVENT
BEGIN:VEVENT
DTSTART;TZID=America/New_York:20231113T180000
DTEND;TZID=America/New_York:20231113T210000
DTSTAMP:20260419T144902
CREATED:20230817T191151Z
LAST-MODIFIED:20230817T191315Z
UID:18323-1699898400-1699909200@silverballmuseum.com
SUMMARY:The Top Floor is CLOSED for a Private Event
DESCRIPTION:The top floor will be closed on November 13th from 6:00 PM-9:00 PM. The arcade will be open to the public during the event.
URL:https://silverballmuseum.com/delray-beach/event/top-floor-private-party-event-closure-november-13-2023/
LOCATION:Delray Beach\, 19 NE 3rd Ave.\, Delray Beach\, FL\, 33483\, United States
CATEGORIES:Parties / Events,Private
END:VEVENT
BEGIN:VEVENT
DTSTART;TZID=America/New_York:20231115T180000
DTEND;TZID=America/New_York:20231115T220000
DTSTAMP:20260419T144902
CREATED:20230824T201859Z
LAST-MODIFIED:20230906T200915Z
UID:18332-1700071200-1700085600@silverballmuseum.com
SUMMARY:Ladies Pinball Tournament
DESCRIPTION:Every 3rd Wednesday of the month join us for our Ladies Pinball Tournament \nRegistration & practice: 6:00-6:45 PM\nTournament: 7:00 PM \n\nEntry fee: $10\nTournament fee: $5\nAll ages and skill levels\n3 hours of play\n50% off drinks from 8-11 PM for all Ladies on Wednesday nights
URL:https://silverballmuseum.com/delray-beach/event/ladies-tournament-11152023/
LOCATION:Delray Beach\, 19 NE 3rd Ave.\, Delray Beach\, FL\, 33483\, United States
CATEGORIES:Parties / Events,Public
END:VEVENT
BEGIN:VEVENT
DTSTART;TZID=America/New_York:20231118T183000
DTEND;TZID=America/New_York:20231118T213000
DTSTAMP:20260419T144902
CREATED:20231102T203849Z
LAST-MODIFIED:20231102T204016Z
UID:19020-1700332200-1700343000@silverballmuseum.com
SUMMARY:The Top Floor is CLOSED for a Private Event
DESCRIPTION:The top floor will be closed on November 18th from 6:30 PM-9:30 PM. The arcade will be open to the public during the event.
URL:https://silverballmuseum.com/delray-beach/event/top-floor-private-party-event-closure-november-18-2023-2/
LOCATION:Delray Beach\, 19 NE 3rd Ave.\, Delray Beach\, FL\, 33483\, United States
CATEGORIES:Parties / Events,Private
END:VEVENT
BEGIN:VEVENT
DTSTART;TZID=America/New_York:20231122T180000
DTEND;TZID=America/New_York:20231122T200000
DTSTAMP:20260419T144902
CREATED:20230629T183223Z
LAST-MODIFIED:20230629T183756Z
UID:18270-1700676000-1700683200@silverballmuseum.com
SUMMARY:The Top Floor is CLOSED for a Private Event
DESCRIPTION:The top floor will be closed on November 22nd from 6 PM-8 PM. The arcade will be open to the public during the event.
URL:https://silverballmuseum.com/delray-beach/event/top-floor-private-party-event-closure-november-22-2023/
LOCATION:Delray Beach\, 19 NE 3rd Ave.\, Delray Beach\, FL\, 33483\, United States
CATEGORIES:Parties / Events,Private
END:VEVENT
END:VCALENDAR