
BEGIN:VCALENDAR
VERSION:2.0
PRODID:-//Silverball Retro Arcade - Delray Beach - ECPv6.15.20//NONSGML v1.0//EN
CALSCALE:GREGORIAN
METHOD:PUBLISH
X-WR-CALNAME:Silverball Retro Arcade - Delray Beach
X-ORIGINAL-URL:https://silverballmuseum.com/delray-beach
X-WR-CALDESC:Events for Silverball Retro Arcade - Delray Beach
REFRESH-INTERVAL;VALUE=DURATION:PT1H
X-Robots-Tag:noindex
X-PUBLISHED-TTL:PT1H
BEGIN:VTIMEZONE
TZID:America/New_York
BEGIN:DAYLIGHT
TZOFFSETFROM:-0500
TZOFFSETTO:-0400
TZNAME:EDT
DTSTART:20250309T070000
END:DAYLIGHT
BEGIN:STANDARD
TZOFFSETFROM:-0400
TZOFFSETTO:-0500
TZNAME:EST
DTSTART:20251102T060000
END:STANDARD
BEGIN:DAYLIGHT
TZOFFSETFROM:-0500
TZOFFSETTO:-0400
TZNAME:EDT
DTSTART:20260308T070000
END:DAYLIGHT
BEGIN:STANDARD
TZOFFSETFROM:-0400
TZOFFSETTO:-0500
TZNAME:EST
DTSTART:20261101T060000
END:STANDARD
BEGIN:DAYLIGHT
TZOFFSETFROM:-0500
TZOFFSETTO:-0400
TZNAME:EDT
DTSTART:20270314T070000
END:DAYLIGHT
BEGIN:STANDARD
TZOFFSETFROM:-0400
TZOFFSETTO:-0500
TZNAME:EST
DTSTART:20271107T060000
END:STANDARD
END:VTIMEZONE
BEGIN:VEVENT
DTSTART;VALUE=DATE:20260503
DTEND;VALUE=DATE:20260505
DTSTAMP:20260419T184816
CREATED:20211009T014628Z
LAST-MODIFIED:20250109T191521Z
UID:20317-1777777200-1777863599@silverballmuseum.com
SUMMARY:Sunday Fun-Day
DESCRIPTION:Sundays Only! $50 for Half-Day admission for groups of four! Each additional guest (up to 3) will receive admission for $10 each. \n 
URL:https://silverballmuseum.com/delray-beach/event/sunday-fun-day-2026-05-03/
LOCATION:Delray Beach\, 19 NE 3rd Ave.\, Delray Beach\, FL\, 33483\, United States
CATEGORIES:Weekly Specials
ATTACH;FMTTYPE=image/jpeg:https://silverballmuseum.com/delray-beach/wp-content/uploads/sites/5/2021/10/SilverballDB_Weekly-Promo-Graphic-Sunday-sml.jpg
END:VEVENT
BEGIN:VEVENT
DTSTART;TZID=America/New_York:20260505T120000
DTEND;TZID=America/New_York:20260505T170000
DTSTAMP:20260419T184816
CREATED:20211009T015316Z
LAST-MODIFIED:20211009T015316Z
UID:20119-1777982400-1778000400@silverballmuseum.com
SUMMARY:Two for $35 Tuesday
DESCRIPTION:Tuesdays Only from Noon-5 PM! $35 for All-Day Re-entry admission for two!
URL:https://silverballmuseum.com/delray-beach/event/two-for-25-2026-05-05/
LOCATION:Delray Beach\, 19 NE 3rd Ave.\, Delray Beach\, FL\, 33483\, United States
CATEGORIES:Weekly Specials
ATTACH;FMTTYPE=image/jpeg:https://silverballmuseum.com/delray-beach/wp-content/uploads/sites/5/2021/10/SilverballDB_Weekly-Promo-Graphic-sml.jpg
END:VEVENT
BEGIN:VEVENT
DTSTART;VALUE=DATE:20260510
DTEND;VALUE=DATE:20260512
DTSTAMP:20260419T184816
CREATED:20211009T014628Z
LAST-MODIFIED:20250109T191522Z
UID:20318-1778382000-1778468399@silverballmuseum.com
SUMMARY:Sunday Fun-Day
DESCRIPTION:Sundays Only! $50 for Half-Day admission for groups of four! Each additional guest (up to 3) will receive admission for $10 each. \n 
URL:https://silverballmuseum.com/delray-beach/event/sunday-fun-day-2026-05-10/
LOCATION:Delray Beach\, 19 NE 3rd Ave.\, Delray Beach\, FL\, 33483\, United States
CATEGORIES:Weekly Specials
ATTACH;FMTTYPE=image/jpeg:https://silverballmuseum.com/delray-beach/wp-content/uploads/sites/5/2021/10/SilverballDB_Weekly-Promo-Graphic-Sunday-sml.jpg
END:VEVENT
BEGIN:VEVENT
DTSTART;TZID=America/New_York:20260512T120000
DTEND;TZID=America/New_York:20260512T170000
DTSTAMP:20260419T184816
CREATED:20211009T015316Z
LAST-MODIFIED:20211009T015316Z
UID:20120-1778587200-1778605200@silverballmuseum.com
SUMMARY:Two for $35 Tuesday
DESCRIPTION:Tuesdays Only from Noon-5 PM! $35 for All-Day Re-entry admission for two!
URL:https://silverballmuseum.com/delray-beach/event/two-for-25-2026-05-12/
LOCATION:Delray Beach\, 19 NE 3rd Ave.\, Delray Beach\, FL\, 33483\, United States
CATEGORIES:Weekly Specials
ATTACH;FMTTYPE=image/jpeg:https://silverballmuseum.com/delray-beach/wp-content/uploads/sites/5/2021/10/SilverballDB_Weekly-Promo-Graphic-sml.jpg
END:VEVENT
BEGIN:VEVENT
DTSTART;VALUE=DATE:20260517
DTEND;VALUE=DATE:20260519
DTSTAMP:20260419T184816
CREATED:20211009T014628Z
LAST-MODIFIED:20250109T191523Z
UID:20319-1778986800-1779073199@silverballmuseum.com
SUMMARY:Sunday Fun-Day
DESCRIPTION:Sundays Only! $50 for Half-Day admission for groups of four! Each additional guest (up to 3) will receive admission for $10 each. \n 
URL:https://silverballmuseum.com/delray-beach/event/sunday-fun-day-2026-05-17/
LOCATION:Delray Beach\, 19 NE 3rd Ave.\, Delray Beach\, FL\, 33483\, United States
CATEGORIES:Weekly Specials
ATTACH;FMTTYPE=image/jpeg:https://silverballmuseum.com/delray-beach/wp-content/uploads/sites/5/2021/10/SilverballDB_Weekly-Promo-Graphic-Sunday-sml.jpg
END:VEVENT
BEGIN:VEVENT
DTSTART;TZID=America/New_York:20260519T120000
DTEND;TZID=America/New_York:20260519T170000
DTSTAMP:20260419T184816
CREATED:20211009T015316Z
LAST-MODIFIED:20211009T015316Z
UID:20121-1779192000-1779210000@silverballmuseum.com
SUMMARY:Two for $35 Tuesday
DESCRIPTION:Tuesdays Only from Noon-5 PM! $35 for All-Day Re-entry admission for two!
URL:https://silverballmuseum.com/delray-beach/event/two-for-25-2026-05-19/
LOCATION:Delray Beach\, 19 NE 3rd Ave.\, Delray Beach\, FL\, 33483\, United States
CATEGORIES:Weekly Specials
ATTACH;FMTTYPE=image/jpeg:https://silverballmuseum.com/delray-beach/wp-content/uploads/sites/5/2021/10/SilverballDB_Weekly-Promo-Graphic-sml.jpg
END:VEVENT
BEGIN:VEVENT
DTSTART;VALUE=DATE:20260524
DTEND;VALUE=DATE:20260526
DTSTAMP:20260419T184816
CREATED:20211009T014628Z
LAST-MODIFIED:20250109T191524Z
UID:20320-1779591600-1779677999@silverballmuseum.com
SUMMARY:Sunday Fun-Day
DESCRIPTION:Sundays Only! $50 for Half-Day admission for groups of four! Each additional guest (up to 3) will receive admission for $10 each. \n 
URL:https://silverballmuseum.com/delray-beach/event/sunday-fun-day-2026-05-24/
LOCATION:Delray Beach\, 19 NE 3rd Ave.\, Delray Beach\, FL\, 33483\, United States
CATEGORIES:Weekly Specials
ATTACH;FMTTYPE=image/jpeg:https://silverballmuseum.com/delray-beach/wp-content/uploads/sites/5/2021/10/SilverballDB_Weekly-Promo-Graphic-Sunday-sml.jpg
END:VEVENT
BEGIN:VEVENT
DTSTART;TZID=America/New_York:20260526T120000
DTEND;TZID=America/New_York:20260526T170000
DTSTAMP:20260419T184816
CREATED:20211009T015316Z
LAST-MODIFIED:20211009T015316Z
UID:20122-1779796800-1779814800@silverballmuseum.com
SUMMARY:Two for $35 Tuesday
DESCRIPTION:Tuesdays Only from Noon-5 PM! $35 for All-Day Re-entry admission for two!
URL:https://silverballmuseum.com/delray-beach/event/two-for-25-2026-05-26/
LOCATION:Delray Beach\, 19 NE 3rd Ave.\, Delray Beach\, FL\, 33483\, United States
CATEGORIES:Weekly Specials
ATTACH;FMTTYPE=image/jpeg:https://silverballmuseum.com/delray-beach/wp-content/uploads/sites/5/2021/10/SilverballDB_Weekly-Promo-Graphic-sml.jpg
END:VEVENT
BEGIN:VEVENT
DTSTART;VALUE=DATE:20260531
DTEND;VALUE=DATE:20260602
DTSTAMP:20260419T184816
CREATED:20211009T014628Z
LAST-MODIFIED:20250109T191525Z
UID:20321-1780196400-1780282799@silverballmuseum.com
SUMMARY:Sunday Fun-Day
DESCRIPTION:Sundays Only! $50 for Half-Day admission for groups of four! Each additional guest (up to 3) will receive admission for $10 each. \n 
URL:https://silverballmuseum.com/delray-beach/event/sunday-fun-day-2026-05-31/
LOCATION:Delray Beach\, 19 NE 3rd Ave.\, Delray Beach\, FL\, 33483\, United States
CATEGORIES:Weekly Specials
ATTACH;FMTTYPE=image/jpeg:https://silverballmuseum.com/delray-beach/wp-content/uploads/sites/5/2021/10/SilverballDB_Weekly-Promo-Graphic-Sunday-sml.jpg
END:VEVENT
END:VCALENDAR