
BEGIN:VCALENDAR
VERSION:2.0
PRODID:-//Silverball Retro Arcade - Delray Beach - ECPv6.15.20//NONSGML v1.0//EN
CALSCALE:GREGORIAN
METHOD:PUBLISH
X-ORIGINAL-URL:https://silverballmuseum.com/delray-beach
X-WR-CALDESC:Events for Silverball Retro Arcade - Delray Beach
REFRESH-INTERVAL;VALUE=DURATION:PT1H
X-Robots-Tag:noindex
X-PUBLISHED-TTL:PT1H
BEGIN:VTIMEZONE
TZID:America/New_York
BEGIN:DAYLIGHT
TZOFFSETFROM:-0500
TZOFFSETTO:-0400
TZNAME:EDT
DTSTART:20250309T070000
END:DAYLIGHT
BEGIN:STANDARD
TZOFFSETFROM:-0400
TZOFFSETTO:-0500
TZNAME:EST
DTSTART:20251102T060000
END:STANDARD
BEGIN:DAYLIGHT
TZOFFSETFROM:-0500
TZOFFSETTO:-0400
TZNAME:EDT
DTSTART:20260308T070000
END:DAYLIGHT
BEGIN:STANDARD
TZOFFSETFROM:-0400
TZOFFSETTO:-0500
TZNAME:EST
DTSTART:20261101T060000
END:STANDARD
BEGIN:DAYLIGHT
TZOFFSETFROM:-0500
TZOFFSETTO:-0400
TZNAME:EDT
DTSTART:20270314T070000
END:DAYLIGHT
BEGIN:STANDARD
TZOFFSETFROM:-0400
TZOFFSETTO:-0500
TZNAME:EST
DTSTART:20271107T060000
END:STANDARD
END:VTIMEZONE
BEGIN:VEVENT
DTSTART;VALUE=DATE:20260802
DTEND;VALUE=DATE:20260804
DTSTAMP:20260423T050514
CREATED:20211009T014628Z
LAST-MODIFIED:20250109T191535Z
UID:20330-1785639600-1785725999@silverballmuseum.com
SUMMARY:Sunday Fun-Day
DESCRIPTION:Sundays Only! $50 for Half-Day admission for groups of four! Each additional guest (up to 3) will receive admission for $10 each. \n 
URL:https://silverballmuseum.com/delray-beach/event/sunday-fun-day-2026-08-02/
LOCATION:Delray Beach\, 19 NE 3rd Ave.\, Delray Beach\, FL\, 33483\, United States
CATEGORIES:Weekly Specials
ATTACH;FMTTYPE=image/jpeg:https://silverballmuseum.com/delray-beach/wp-content/uploads/sites/5/2021/10/SilverballDB_Weekly-Promo-Graphic-Sunday-sml.jpg
END:VEVENT
BEGIN:VEVENT
DTSTART;TZID=America/New_York:20260804T120000
DTEND;TZID=America/New_York:20260804T170000
DTSTAMP:20260423T050514
CREATED:20211009T015316Z
LAST-MODIFIED:20211009T015316Z
UID:20132-1785844800-1785862800@silverballmuseum.com
SUMMARY:Two for $35 Tuesday
DESCRIPTION:Tuesdays Only from Noon-5 PM! $35 for All-Day Re-entry admission for two!
URL:https://silverballmuseum.com/delray-beach/event/two-for-25-2026-08-04/
LOCATION:Delray Beach\, 19 NE 3rd Ave.\, Delray Beach\, FL\, 33483\, United States
CATEGORIES:Weekly Specials
ATTACH;FMTTYPE=image/jpeg:https://silverballmuseum.com/delray-beach/wp-content/uploads/sites/5/2021/10/SilverballDB_Weekly-Promo-Graphic-sml.jpg
END:VEVENT
BEGIN:VEVENT
DTSTART;VALUE=DATE:20260809
DTEND;VALUE=DATE:20260811
DTSTAMP:20260423T050514
CREATED:20211009T014628Z
LAST-MODIFIED:20250109T191536Z
UID:20331-1786244400-1786330799@silverballmuseum.com
SUMMARY:Sunday Fun-Day
DESCRIPTION:Sundays Only! $50 for Half-Day admission for groups of four! Each additional guest (up to 3) will receive admission for $10 each. \n 
URL:https://silverballmuseum.com/delray-beach/event/sunday-fun-day-2026-08-09/
LOCATION:Delray Beach\, 19 NE 3rd Ave.\, Delray Beach\, FL\, 33483\, United States
CATEGORIES:Weekly Specials
ATTACH;FMTTYPE=image/jpeg:https://silverballmuseum.com/delray-beach/wp-content/uploads/sites/5/2021/10/SilverballDB_Weekly-Promo-Graphic-Sunday-sml.jpg
END:VEVENT
BEGIN:VEVENT
DTSTART;TZID=America/New_York:20260811T120000
DTEND;TZID=America/New_York:20260811T170000
DTSTAMP:20260423T050514
CREATED:20211009T015316Z
LAST-MODIFIED:20211009T015316Z
UID:20133-1786449600-1786467600@silverballmuseum.com
SUMMARY:Two for $35 Tuesday
DESCRIPTION:Tuesdays Only from Noon-5 PM! $35 for All-Day Re-entry admission for two!
URL:https://silverballmuseum.com/delray-beach/event/two-for-25-2026-08-11/
LOCATION:Delray Beach\, 19 NE 3rd Ave.\, Delray Beach\, FL\, 33483\, United States
CATEGORIES:Weekly Specials
ATTACH;FMTTYPE=image/jpeg:https://silverballmuseum.com/delray-beach/wp-content/uploads/sites/5/2021/10/SilverballDB_Weekly-Promo-Graphic-sml.jpg
END:VEVENT
BEGIN:VEVENT
DTSTART;VALUE=DATE:20260816
DTEND;VALUE=DATE:20260818
DTSTAMP:20260423T050514
CREATED:20211009T014628Z
LAST-MODIFIED:20250109T191537Z
UID:20332-1786849200-1786935599@silverballmuseum.com
SUMMARY:Sunday Fun-Day
DESCRIPTION:Sundays Only! $50 for Half-Day admission for groups of four! Each additional guest (up to 3) will receive admission for $10 each. \n 
URL:https://silverballmuseum.com/delray-beach/event/sunday-fun-day-2026-08-16/
LOCATION:Delray Beach\, 19 NE 3rd Ave.\, Delray Beach\, FL\, 33483\, United States
CATEGORIES:Weekly Specials
ATTACH;FMTTYPE=image/jpeg:https://silverballmuseum.com/delray-beach/wp-content/uploads/sites/5/2021/10/SilverballDB_Weekly-Promo-Graphic-Sunday-sml.jpg
END:VEVENT
BEGIN:VEVENT
DTSTART;TZID=America/New_York:20260818T120000
DTEND;TZID=America/New_York:20260818T170000
DTSTAMP:20260423T050514
CREATED:20211009T015316Z
LAST-MODIFIED:20211009T015316Z
UID:20134-1787054400-1787072400@silverballmuseum.com
SUMMARY:Two for $35 Tuesday
DESCRIPTION:Tuesdays Only from Noon-5 PM! $35 for All-Day Re-entry admission for two!
URL:https://silverballmuseum.com/delray-beach/event/two-for-25-2026-08-18/
LOCATION:Delray Beach\, 19 NE 3rd Ave.\, Delray Beach\, FL\, 33483\, United States
CATEGORIES:Weekly Specials
ATTACH;FMTTYPE=image/jpeg:https://silverballmuseum.com/delray-beach/wp-content/uploads/sites/5/2021/10/SilverballDB_Weekly-Promo-Graphic-sml.jpg
END:VEVENT
BEGIN:VEVENT
DTSTART;VALUE=DATE:20260823
DTEND;VALUE=DATE:20260825
DTSTAMP:20260423T050514
CREATED:20211009T014628Z
LAST-MODIFIED:20250109T191538Z
UID:20333-1787454000-1787540399@silverballmuseum.com
SUMMARY:Sunday Fun-Day
DESCRIPTION:Sundays Only! $50 for Half-Day admission for groups of four! Each additional guest (up to 3) will receive admission for $10 each. \n 
URL:https://silverballmuseum.com/delray-beach/event/sunday-fun-day-2026-08-23/
LOCATION:Delray Beach\, 19 NE 3rd Ave.\, Delray Beach\, FL\, 33483\, United States
CATEGORIES:Weekly Specials
ATTACH;FMTTYPE=image/jpeg:https://silverballmuseum.com/delray-beach/wp-content/uploads/sites/5/2021/10/SilverballDB_Weekly-Promo-Graphic-Sunday-sml.jpg
END:VEVENT
BEGIN:VEVENT
DTSTART;TZID=America/New_York:20260825T120000
DTEND;TZID=America/New_York:20260825T170000
DTSTAMP:20260423T050514
CREATED:20211009T015316Z
LAST-MODIFIED:20211009T015316Z
UID:20135-1787659200-1787677200@silverballmuseum.com
SUMMARY:Two for $35 Tuesday
DESCRIPTION:Tuesdays Only from Noon-5 PM! $35 for All-Day Re-entry admission for two!
URL:https://silverballmuseum.com/delray-beach/event/two-for-25-2026-08-25/
LOCATION:Delray Beach\, 19 NE 3rd Ave.\, Delray Beach\, FL\, 33483\, United States
CATEGORIES:Weekly Specials
ATTACH;FMTTYPE=image/jpeg:https://silverballmuseum.com/delray-beach/wp-content/uploads/sites/5/2021/10/SilverballDB_Weekly-Promo-Graphic-sml.jpg
END:VEVENT
BEGIN:VEVENT
DTSTART;VALUE=DATE:20260830
DTEND;VALUE=DATE:20260901
DTSTAMP:20260423T050514
CREATED:20211009T014628Z
LAST-MODIFIED:20250109T191539Z
UID:20334-1788058800-1788145199@silverballmuseum.com
SUMMARY:Sunday Fun-Day
DESCRIPTION:Sundays Only! $50 for Half-Day admission for groups of four! Each additional guest (up to 3) will receive admission for $10 each. \n 
URL:https://silverballmuseum.com/delray-beach/event/sunday-fun-day-2026-08-30/
LOCATION:Delray Beach\, 19 NE 3rd Ave.\, Delray Beach\, FL\, 33483\, United States
CATEGORIES:Weekly Specials
ATTACH;FMTTYPE=image/jpeg:https://silverballmuseum.com/delray-beach/wp-content/uploads/sites/5/2021/10/SilverballDB_Weekly-Promo-Graphic-Sunday-sml.jpg
END:VEVENT
END:VCALENDAR