
BEGIN:VCALENDAR
VERSION:2.0
PRODID:-//Silverball Retro Arcade - Asbury Park - ECPv6.15.20//NONSGML v1.0//EN
CALSCALE:GREGORIAN
METHOD:PUBLISH
X-WR-CALNAME:Silverball Retro Arcade - Asbury Park
X-ORIGINAL-URL:https://silverballmuseum.com/asbury-park
X-WR-CALDESC:Events for Silverball Retro Arcade - Asbury Park
REFRESH-INTERVAL;VALUE=DURATION:PT1H
X-Robots-Tag:noindex
X-PUBLISHED-TTL:PT1H
BEGIN:VTIMEZONE
TZID:America/New_York
BEGIN:DAYLIGHT
TZOFFSETFROM:-0500
TZOFFSETTO:-0400
TZNAME:EDT
DTSTART:20220313T070000
END:DAYLIGHT
BEGIN:STANDARD
TZOFFSETFROM:-0400
TZOFFSETTO:-0500
TZNAME:EST
DTSTART:20221106T060000
END:STANDARD
BEGIN:DAYLIGHT
TZOFFSETFROM:-0500
TZOFFSETTO:-0400
TZNAME:EDT
DTSTART:20230312T070000
END:DAYLIGHT
BEGIN:STANDARD
TZOFFSETFROM:-0400
TZOFFSETTO:-0500
TZNAME:EST
DTSTART:20231105T060000
END:STANDARD
BEGIN:DAYLIGHT
TZOFFSETFROM:-0500
TZOFFSETTO:-0400
TZNAME:EDT
DTSTART:20240310T070000
END:DAYLIGHT
BEGIN:STANDARD
TZOFFSETFROM:-0400
TZOFFSETTO:-0500
TZNAME:EST
DTSTART:20241103T060000
END:STANDARD
END:VTIMEZONE
BEGIN:VEVENT
DTSTART;TZID=America/New_York:20231213T183000
DTEND;TZID=America/New_York:20231213T203000
DTSTAMP:20260424T053725
CREATED:20231129T185241Z
LAST-MODIFIED:20231129T185845Z
UID:10210-1702492200-1702499400@silverballmuseum.com
SUMMARY:Flip & Sip Mini Pinball Tournament
DESCRIPTION:Let’s FLIP & SIP!\nOpen Mini Pinball Tournament\nDecember 13\, 2023 | 6:30-8:30 PM\n\n\nEntry Fee: $18\n\nFriendly competition. No skills needed! You are invited to B.Y.O.B.!\nRSVP is not necessary\, but is requested > https://forms.gle/W8Hz3icC9VgffeP46\n\nAny questions feel free to reach out to patricia@silverballmuseum.com
URL:https://silverballmuseum.com/asbury-park/event/mini-tournament-december-13-2023/
LOCATION:Silverball Museum\, 1000 Ocean Ave\, Asbury Park\, NJ\, 07712\, United States
CATEGORIES:Parties / Events
ATTACH;FMTTYPE=image/png:https://silverballmuseum.com/asbury-park/wp-content/uploads/sites/2/2023/11/SB-AP-flip-sip-square.png
END:VEVENT
END:VCALENDAR