
BEGIN:VCALENDAR
VERSION:2.0
PRODID:-//Silverball Retro Arcade - Asbury Park - ECPv6.15.20//NONSGML v1.0//EN
CALSCALE:GREGORIAN
METHOD:PUBLISH
X-WR-CALNAME:Silverball Retro Arcade - Asbury Park
X-ORIGINAL-URL:https://silverballmuseum.com/asbury-park
X-WR-CALDESC:Events for Silverball Retro Arcade - Asbury Park
REFRESH-INTERVAL;VALUE=DURATION:PT1H
X-Robots-Tag:noindex
X-PUBLISHED-TTL:PT1H
BEGIN:VTIMEZONE
TZID:America/New_York
BEGIN:DAYLIGHT
TZOFFSETFROM:-0500
TZOFFSETTO:-0400
TZNAME:EDT
DTSTART:20220313T070000
END:DAYLIGHT
BEGIN:STANDARD
TZOFFSETFROM:-0400
TZOFFSETTO:-0500
TZNAME:EST
DTSTART:20221106T060000
END:STANDARD
BEGIN:DAYLIGHT
TZOFFSETFROM:-0500
TZOFFSETTO:-0400
TZNAME:EDT
DTSTART:20230312T070000
END:DAYLIGHT
BEGIN:STANDARD
TZOFFSETFROM:-0400
TZOFFSETTO:-0500
TZNAME:EST
DTSTART:20231105T060000
END:STANDARD
BEGIN:DAYLIGHT
TZOFFSETFROM:-0500
TZOFFSETTO:-0400
TZNAME:EDT
DTSTART:20240310T070000
END:DAYLIGHT
BEGIN:STANDARD
TZOFFSETFROM:-0400
TZOFFSETTO:-0500
TZNAME:EST
DTSTART:20241103T060000
END:STANDARD
END:VTIMEZONE
BEGIN:VEVENT
DTSTART;TZID=America/New_York:20230113T180000
DTEND;TZID=America/New_York:20230113T230000
DTSTAMP:20260424T120625
CREATED:20230109T215948Z
LAST-MODIFIED:20230109T215948Z
UID:9908-1673632800-1673650800@silverballmuseum.com
SUMMARY:Light of Day 2023
DESCRIPTION:Pinball\, Retro Arcade Games and Cover Band Mayhem! \n\n\n\n\n\n\n\nAll ages Ticket Price: Without an LOD wristband\, regular Silverball admission rates apply. FREE play in our retro arcade is included with all admissions. Limited seating available. General arcade fees without LOD combo ticket are: Half hour $10. One hour $15.00. Entire night $17.50\n\n\n\n\n\n\n\n7:00-7:40 Dead Air (Jim Monahan and Tom Kaminski)\n7:50-8:30 Joe D’Urso & Stone Caravan\n8:40-9:20 Kenny K and the Way\n9:30-10:10 Me And Bobby D\n10:20-11:00 Freddy and the Phantoms
URL:https://silverballmuseum.com/asbury-park/event/light-of-day-2023/
LOCATION:Silverball Museum\, 1000 Ocean Ave\, Asbury Park\, NJ\, 07712\, United States
CATEGORIES:Parties / Events
END:VEVENT
END:VCALENDAR