
BEGIN:VCALENDAR
VERSION:2.0
PRODID:-//Silverball Retro Arcade - Asbury Park - ECPv6.15.20//NONSGML v1.0//EN
CALSCALE:GREGORIAN
METHOD:PUBLISH
X-WR-CALNAME:Silverball Retro Arcade - Asbury Park
X-ORIGINAL-URL:https://silverballmuseum.com/asbury-park
X-WR-CALDESC:Events for Silverball Retro Arcade - Asbury Park
REFRESH-INTERVAL;VALUE=DURATION:PT1H
X-Robots-Tag:noindex
X-PUBLISHED-TTL:PT1H
BEGIN:VTIMEZONE
TZID:America/New_York
BEGIN:DAYLIGHT
TZOFFSETFROM:-0500
TZOFFSETTO:-0400
TZNAME:EDT
DTSTART:20220313T070000
END:DAYLIGHT
BEGIN:STANDARD
TZOFFSETFROM:-0400
TZOFFSETTO:-0500
TZNAME:EST
DTSTART:20221106T060000
END:STANDARD
BEGIN:DAYLIGHT
TZOFFSETFROM:-0500
TZOFFSETTO:-0400
TZNAME:EDT
DTSTART:20230312T070000
END:DAYLIGHT
BEGIN:STANDARD
TZOFFSETFROM:-0400
TZOFFSETTO:-0500
TZNAME:EST
DTSTART:20231105T060000
END:STANDARD
BEGIN:DAYLIGHT
TZOFFSETFROM:-0500
TZOFFSETTO:-0400
TZNAME:EDT
DTSTART:20240310T070000
END:DAYLIGHT
BEGIN:STANDARD
TZOFFSETFROM:-0400
TZOFFSETTO:-0500
TZNAME:EST
DTSTART:20241103T060000
END:STANDARD
END:VTIMEZONE
BEGIN:VEVENT
DTSTART;TZID=America/New_York:20231115T183000
DTEND;TZID=America/New_York:20231115T203000
DTSTAMP:20260424T014350
CREATED:20231026T135004Z
LAST-MODIFIED:20231026T135515Z
UID:10099-1700073000-1700080200@silverballmuseum.com
SUMMARY:Flip & Sip Mini Pinball Tournament
DESCRIPTION:Let’s FLIP & SIP!\nOpen Mini Pinball Tournament\nNovember 15\, 2023 | 6:30-8:30 PM\n\n\nEntry Fee: $18\n\nFriendly competition. No skills needed! You are invited to B.Y.O.B.!\nRSVP is not necessary\, but is requested > https://forms.gle/8w2zxzWgZ75b2AFr9\n\nAny questions feel free to reach out to patricia@silverballmuseum.com
URL:https://silverballmuseum.com/asbury-park/event/mini-tournament-november-15-2023/
LOCATION:Silverball Museum\, 1000 Ocean Ave\, Asbury Park\, NJ\, 07712\, United States
CATEGORIES:Parties / Events
ATTACH;FMTTYPE=image/png:https://silverballmuseum.com/asbury-park/wp-content/uploads/sites/2/2023/10/AP-Flip-and-Sip-November-2023-Flyer-1.png
END:VEVENT
BEGIN:VEVENT
DTSTART;TZID=America/New_York:20231123T110000
DTEND;TZID=America/New_York:20231123T210000
DTSTAMP:20260424T014350
CREATED:20231108T203437Z
LAST-MODIFIED:20231108T204029Z
UID:10113-1700737200-1700773200@silverballmuseum.com
SUMMARY:CLOSED FOR THANKSGIVING
DESCRIPTION:
URL:https://silverballmuseum.com/asbury-park/event/thanksgiving-2023-closed/
LOCATION:Silverball Museum\, 1000 Ocean Ave\, Asbury Park\, NJ\, 07712\, United States
CATEGORIES:Private
END:VEVENT
END:VCALENDAR