
BEGIN:VCALENDAR
VERSION:2.0
PRODID:-//Silverball Retro Arcade - Asbury Park - ECPv6.15.20//NONSGML v1.0//EN
CALSCALE:GREGORIAN
METHOD:PUBLISH
X-ORIGINAL-URL:https://silverballmuseum.com/asbury-park
X-WR-CALDESC:Events for Silverball Retro Arcade - Asbury Park
REFRESH-INTERVAL;VALUE=DURATION:PT1H
X-Robots-Tag:noindex
X-PUBLISHED-TTL:PT1H
BEGIN:VTIMEZONE
TZID:America/New_York
BEGIN:DAYLIGHT
TZOFFSETFROM:-0500
TZOFFSETTO:-0400
TZNAME:EDT
DTSTART:20220313T070000
END:DAYLIGHT
BEGIN:STANDARD
TZOFFSETFROM:-0400
TZOFFSETTO:-0500
TZNAME:EST
DTSTART:20221106T060000
END:STANDARD
BEGIN:DAYLIGHT
TZOFFSETFROM:-0500
TZOFFSETTO:-0400
TZNAME:EDT
DTSTART:20230312T070000
END:DAYLIGHT
BEGIN:STANDARD
TZOFFSETFROM:-0400
TZOFFSETTO:-0500
TZNAME:EST
DTSTART:20231105T060000
END:STANDARD
BEGIN:DAYLIGHT
TZOFFSETFROM:-0500
TZOFFSETTO:-0400
TZNAME:EDT
DTSTART:20240310T070000
END:DAYLIGHT
BEGIN:STANDARD
TZOFFSETFROM:-0400
TZOFFSETTO:-0500
TZNAME:EST
DTSTART:20241103T060000
END:STANDARD
END:VTIMEZONE
BEGIN:VEVENT
DTSTART;TZID=America/New_York:20231007T210000
DTEND;TZID=America/New_York:20231008T000000
DTSTAMP:20260424T033603
CREATED:20221010T164142Z
LAST-MODIFIED:20230914T191007Z
UID:9744-1696712400-1696723200@silverballmuseum.com
SUMMARY:Closed for private event
DESCRIPTION:We will be closed for a private event on October 7 from 9 PM-midnight. The arcade will be open to the public before the event.
URL:https://silverballmuseum.com/asbury-park/event/private-event-10072023/
LOCATION:Silverball Museum\, 1000 Ocean Ave\, Asbury Park\, NJ\, 07712\, United States
CATEGORIES:Parties / Events,Private
END:VEVENT
BEGIN:VEVENT
DTSTART;TZID=America/New_York:20231021T130000
DTEND;TZID=America/New_York:20231021T200000
DTSTAMP:20260424T033603
CREATED:20230913T180550Z
LAST-MODIFIED:20230913T184129Z
UID:10059-1697893200-1697918400@silverballmuseum.com
SUMMARY:Pinball Tournament
DESCRIPTION:Open Pinball Tournament\nOctober 21st\nPractice/Registration: 10 AM-1 PM\nTournament: 1:00 PM\n\n\nEntry Fee (All Day Pass): $25\nTournament fee: $10\n\nAll ages and skill level are welcome to join us! There will be 12 rounds of group MatchPlay using 5\,3\,2\,1 scoring. The top 16 or 8 will move on to finals.\nNo preregistration is necessary! Any questions feel free to reach out to patricia@silverballmuseum.com
URL:https://silverballmuseum.com/asbury-park/event/tournament-october-21-2023/
LOCATION:Silverball Museum\, 1000 Ocean Ave\, Asbury Park\, NJ\, 07712\, United States
CATEGORIES:Parties / Events
ATTACH;FMTTYPE=image/png:https://silverballmuseum.com/asbury-park/wp-content/uploads/sites/2/2023/09/Square-SB-AP-Pinball-Tournament-8.5-x-8.5-in-1.png
END:VEVENT
END:VCALENDAR